BEGIN:VCALENDAR
VERSION:2.0
PRODID:-//Evang.-ref. Kirchgemeinde Speicher - ECPv6.3.7//NONSGML v1.0//EN
CALSCALE:GREGORIAN
METHOD:PUBLISH
X-WR-CALNAME:Evang.-ref. Kirchgemeinde Speicher
X-ORIGINAL-URL:https://ref-speicher.ch
X-WR-CALDESC:Veranstaltungen im Evang.-ref. Kirchgemeinde Speicher
REFRESH-INTERVAL;VALUE=DURATION:PT1H
X-Robots-Tag:noindex
X-PUBLISHED-TTL:PT1H
BEGIN:VTIMEZONE
TZID:Europe/Berlin
BEGIN:DAYLIGHT
TZOFFSETFROM:+0100
TZOFFSETTO:+0200
TZNAME:CEST
DTSTART:20260329T010000
END:DAYLIGHT
BEGIN:STANDARD
TZOFFSETFROM:+0200
TZOFFSETTO:+0100
TZNAME:CET
DTSTART:20261025T010000
END:STANDARD
END:VTIMEZONE
BEGIN:VEVENT
DTSTART;TZID=Europe/Berlin:20260501T143000
DTEND;TZID=Europe/Berlin:20260501T170000
DTSTAMP:20260423T042700
CREATED:20251128T103246Z
LAST-MODIFIED:20251128T103246Z
UID:14156-1777645800-1777654800@ref-speicher.ch
SUMMARY:Café Himmlisch
DESCRIPTION:Café Himmlisch: Kaffee und Kuchen\, geniessen und plaudern… Kommen Sie vorbei! Wir freuen uns auf Sie!
URL:https://ref-speicher.ch/veranstaltung/cafe-himmlisch-16/
LOCATION:Evang. Pfarrhaus\, Dorf 44\, Speicher\, 9042\, Switzerland
CATEGORIES:Seniorengruppe
ATTACH;FMTTYPE=image/png:https://ref-speicher.ch/wp-content/uploads/2025/11/Cafe-Himmlisch_Bild.png
END:VEVENT
BEGIN:VEVENT
DTSTART;TZID=Europe/Berlin:20260508T143000
DTEND;TZID=Europe/Berlin:20260508T170000
DTSTAMP:20260423T042700
CREATED:20251128T103303Z
LAST-MODIFIED:20251128T103303Z
UID:14158-1778250600-1778259600@ref-speicher.ch
SUMMARY:Café Himmlisch
DESCRIPTION:Café Himmlisch: Kaffee und Kuchen\, geniessen und plaudern… Kommen Sie vorbei! Wir freuen uns auf Sie!
URL:https://ref-speicher.ch/veranstaltung/cafe-himmlisch-17/
LOCATION:Evang. Pfarrhaus\, Dorf 44\, Speicher\, 9042\, Switzerland
CATEGORIES:Seniorengruppe
ATTACH;FMTTYPE=image/png:https://ref-speicher.ch/wp-content/uploads/2025/11/Cafe-Himmlisch_Bild.png
END:VEVENT
BEGIN:VEVENT
DTSTART;TZID=Europe/Berlin:20260513T093000
DTEND;TZID=Europe/Berlin:20260513T104500
DTSTAMP:20260423T042700
CREATED:20260409T072648Z
LAST-MODIFIED:20260409T074057Z
UID:14576-1778664600-1778669100@ref-speicher.ch
SUMMARY:Lesekreis
DESCRIPTION:Lesekreis zum Buch “in die andere Richtung jetzt” von Navid Kermani. Der Bericht über eine Reise durch Ostafrika\, die von Schönheit und Hunger\, von Lebensfreude und Klimakrise erzählt.
URL:https://ref-speicher.ch/veranstaltung/lesekreis/
LOCATION:Evang. Pfarrhaus\, Dorf 44\, Speicher\, 9042\, Switzerland
CATEGORIES:Diverse Veranstaltungen
END:VEVENT
BEGIN:VEVENT
DTSTART;TZID=Europe/Berlin:20260515T143000
DTEND;TZID=Europe/Berlin:20260515T170000
DTSTAMP:20260423T042700
CREATED:20251128T103317Z
LAST-MODIFIED:20251128T103317Z
UID:14160-1778855400-1778864400@ref-speicher.ch
SUMMARY:Café Himmlisch
DESCRIPTION:Café Himmlisch: Kaffee und Kuchen\, geniessen und plaudern… Kommen Sie vorbei! Wir freuen uns auf Sie!
URL:https://ref-speicher.ch/veranstaltung/cafe-himmlisch-18/
LOCATION:Evang. Pfarrhaus\, Dorf 44\, Speicher\, 9042\, Switzerland
CATEGORIES:Seniorengruppe
ATTACH;FMTTYPE=image/png:https://ref-speicher.ch/wp-content/uploads/2025/11/Cafe-Himmlisch_Bild.png
END:VEVENT
BEGIN:VEVENT
DTSTART;TZID=Europe/Berlin:20260522T143000
DTEND;TZID=Europe/Berlin:20260522T170000
DTSTAMP:20260423T042700
CREATED:20251128T103332Z
LAST-MODIFIED:20251128T103332Z
UID:14162-1779460200-1779469200@ref-speicher.ch
SUMMARY:Café Himmlisch
DESCRIPTION:Café Himmlisch: Kaffee und Kuchen\, geniessen und plaudern… Kommen Sie vorbei! Wir freuen uns auf Sie!
URL:https://ref-speicher.ch/veranstaltung/cafe-himmlisch-19/
LOCATION:Evang. Pfarrhaus\, Dorf 44\, Speicher\, 9042\, Switzerland
CATEGORIES:Seniorengruppe
ATTACH;FMTTYPE=image/png:https://ref-speicher.ch/wp-content/uploads/2025/11/Cafe-Himmlisch_Bild.png
END:VEVENT
BEGIN:VEVENT
DTSTART;TZID=Europe/Berlin:20260529T143000
DTEND;TZID=Europe/Berlin:20260529T170000
DTSTAMP:20260423T042700
CREATED:20251128T103347Z
LAST-MODIFIED:20251128T103347Z
UID:14164-1780065000-1780074000@ref-speicher.ch
SUMMARY:Café Himmlisch
DESCRIPTION:Café Himmlisch: Kaffee und Kuchen\, geniessen und plaudern… Kommen Sie vorbei! Wir freuen uns auf Sie!
URL:https://ref-speicher.ch/veranstaltung/cafe-himmlisch-20/
LOCATION:Evang. Pfarrhaus\, Dorf 44\, Speicher\, 9042\, Switzerland
CATEGORIES:Seniorengruppe
ATTACH;FMTTYPE=image/png:https://ref-speicher.ch/wp-content/uploads/2025/11/Cafe-Himmlisch_Bild.png
END:VEVENT
END:VCALENDAR