BEGIN:VCALENDAR
VERSION:2.0
PRODID:-//Evang.-ref. Kirchgemeinde Speicher - ECPv6.3.7//NONSGML v1.0//EN
CALSCALE:GREGORIAN
METHOD:PUBLISH
X-ORIGINAL-URL:https://ref-speicher.ch
X-WR-CALDESC:Veranstaltungen im Evang.-ref. Kirchgemeinde Speicher
REFRESH-INTERVAL;VALUE=DURATION:PT1H
X-Robots-Tag:noindex
X-PUBLISHED-TTL:PT1H
BEGIN:VTIMEZONE
TZID:Europe/Berlin
BEGIN:DAYLIGHT
TZOFFSETFROM:+0100
TZOFFSETTO:+0200
TZNAME:CEST
DTSTART:20260329T010000
END:DAYLIGHT
BEGIN:STANDARD
TZOFFSETFROM:+0200
TZOFFSETTO:+0100
TZNAME:CET
DTSTART:20261025T010000
END:STANDARD
END:VTIMEZONE
BEGIN:VEVENT
DTSTART;TZID=Europe/Berlin:20261006T140000
DTEND;TZID=Europe/Berlin:20261006T140000
DTSTAMP:20260419T213635
CREATED:20251029T102749Z
LAST-MODIFIED:20260409T081343Z
UID:14000-1791295200-1791295200@ref-speicher.ch
SUMMARY:Alti Lieder vörehole
DESCRIPTION:
URL:https://ref-speicher.ch/veranstaltung/alti-lieder-voerehole-19/
LOCATION:Evang. Kirchgemeindehaus\, Bogenweg 4\, 9042 Speicher
CATEGORIES:Seniorengruppe
ATTACH;FMTTYPE=image/jpeg:https://ref-speicher.ch/wp-content/uploads/2025/10/2026.09-12-Alti-Lieder_Flyer-scaled-e1761733628127.jpg
END:VEVENT
BEGIN:VEVENT
DTSTART;TZID=Europe/Berlin:20261007T120000
DTEND;TZID=Europe/Berlin:20261007T133000
DTSTAMP:20260419T213635
CREATED:20251128T101020Z
LAST-MODIFIED:20260105T103742Z
UID:14116-1791374400-1791379800@ref-speicher.ch
SUMMARY:Generationen essen gemeinsam
DESCRIPTION:Generationen essen gemeinsam\, Anmeldungen bis Montag\, 5. Oktober an Tel/SMS 079 929 22 16 \n \n 
URL:https://ref-speicher.ch/veranstaltung/generationen-essen-gemeinsam-9/
LOCATION:Evang. Kirchgemeindehaus\, Bogenweg 4\, 9042 Speicher
CATEGORIES:Generationenessen
ATTACH;FMTTYPE=image/jpeg:https://ref-speicher.ch/wp-content/uploads/2026/01/2026.10.07-Generationen-essen-gemeinsam-e1767609459282.jpg
END:VEVENT
BEGIN:VEVENT
DTSTART;TZID=Europe/Berlin:20261009T143000
DTEND;TZID=Europe/Berlin:20261009T170000
DTSTAMP:20260419T213635
CREATED:20251128T104012Z
LAST-MODIFIED:20251128T104012Z
UID:14202-1791556200-1791565200@ref-speicher.ch
SUMMARY:Café Himmlisch
DESCRIPTION:Café Himmlisch: Kaffee und Kuchen\, geniessen und plaudern… Kommen Sie vorbei! Wir freuen uns auf Sie!
URL:https://ref-speicher.ch/veranstaltung/cafe-himmlisch-39/
LOCATION:Evang. Pfarrhaus\, Dorf 44\, Speicher\, 9042\, Switzerland
CATEGORIES:Seniorengruppe
ATTACH;FMTTYPE=image/png:https://ref-speicher.ch/wp-content/uploads/2025/11/Cafe-Himmlisch_Bild.png
END:VEVENT
BEGIN:VEVENT
DTSTART;TZID=Europe/Berlin:20261013T120000
DTEND;TZID=Europe/Berlin:20261013T120000
DTSTAMP:20260419T213635
CREATED:20251029T094219Z
LAST-MODIFIED:20260409T081425Z
UID:13947-1791892800-1791892800@ref-speicher.ch
SUMMARY:ökum. Mittagstisch für Senior:innen
DESCRIPTION:  \n 
URL:https://ref-speicher.ch/veranstaltung/oekum-mittagstisch-fuer-seniorinnen-18/
LOCATION:Pfarreizentrum Bendlehn\, Bruggmoos 29\, 9042 Speicher
CATEGORIES:Seniorengruppe
ATTACH;FMTTYPE=image/jpeg:https://ref-speicher.ch/wp-content/uploads/2025/10/2026.09-12.Mittagstisch-e1761730909940.jpg
END:VEVENT
BEGIN:VEVENT
DTSTART;TZID=Europe/Berlin:20261016T143000
DTEND;TZID=Europe/Berlin:20261016T170000
DTSTAMP:20260419T213635
CREATED:20251128T104031Z
LAST-MODIFIED:20251128T104031Z
UID:14204-1792161000-1792170000@ref-speicher.ch
SUMMARY:Café Himmlisch
DESCRIPTION:Café Himmlisch: Kaffee und Kuchen\, geniessen und plaudern… Kommen Sie vorbei! Wir freuen uns auf Sie!
URL:https://ref-speicher.ch/veranstaltung/cafe-himmlisch-40/
LOCATION:Evang. Pfarrhaus\, Dorf 44\, Speicher\, 9042\, Switzerland
CATEGORIES:Seniorengruppe
ATTACH;FMTTYPE=image/png:https://ref-speicher.ch/wp-content/uploads/2025/11/Cafe-Himmlisch_Bild.png
END:VEVENT
BEGIN:VEVENT
DTSTART;TZID=Europe/Berlin:20261020T140000
DTEND;TZID=Europe/Berlin:20261020T140000
DTSTAMP:20260419T213635
CREATED:20251029T102807Z
LAST-MODIFIED:20251029T103123Z
UID:14002-1792504800-1792504800@ref-speicher.ch
SUMMARY:Alti Lieder vörehole
DESCRIPTION:
URL:https://ref-speicher.ch/veranstaltung/alti-lieder-voerehole-20/
LOCATION:Evang. Kirchgemeindehaus\, Bogenweg 4\, 9042 Speicher
CATEGORIES:Seniorengruppe
ATTACH;FMTTYPE=image/jpeg:https://ref-speicher.ch/wp-content/uploads/2025/10/2026.09-12-Alti-Lieder_Flyer-scaled-e1761733628127.jpg
END:VEVENT
BEGIN:VEVENT
DTSTART;TZID=Europe/Berlin:20261023T143000
DTEND;TZID=Europe/Berlin:20261023T170000
DTSTAMP:20260419T213635
CREATED:20251128T104044Z
LAST-MODIFIED:20251128T104044Z
UID:14206-1792765800-1792774800@ref-speicher.ch
SUMMARY:Café Himmlisch
DESCRIPTION:Café Himmlisch: Kaffee und Kuchen\, geniessen und plaudern… Kommen Sie vorbei! Wir freuen uns auf Sie!
URL:https://ref-speicher.ch/veranstaltung/cafe-himmlisch-41/
LOCATION:Evang. Pfarrhaus\, Dorf 44\, Speicher\, 9042\, Switzerland
CATEGORIES:Seniorengruppe
ATTACH;FMTTYPE=image/png:https://ref-speicher.ch/wp-content/uploads/2025/11/Cafe-Himmlisch_Bild.png
END:VEVENT
BEGIN:VEVENT
DTSTART;TZID=Europe/Berlin:20261027T120000
DTEND;TZID=Europe/Berlin:20261027T120000
DTSTAMP:20260419T213635
CREATED:20251029T094351Z
LAST-MODIFIED:20260409T081456Z
UID:13955-1793102400-1793102400@ref-speicher.ch
SUMMARY:ökum. Mittagstisch für Senior:innen
DESCRIPTION:  \n 
URL:https://ref-speicher.ch/veranstaltung/oekum-mittagstisch-fuer-seniorinnen-24/
LOCATION:Evang. Kirchgemeindehaus\, Bogenweg 4\, 9042 Speicher
CATEGORIES:Seniorengruppe
ATTACH;FMTTYPE=image/jpeg:https://ref-speicher.ch/wp-content/uploads/2025/10/2026.09-12.Mittagstisch-e1761730909940.jpg
END:VEVENT
BEGIN:VEVENT
DTSTART;TZID=Europe/Berlin:20261030T143000
DTEND;TZID=Europe/Berlin:20261030T170000
DTSTAMP:20260419T213635
CREATED:20251128T104058Z
LAST-MODIFIED:20251128T104058Z
UID:14208-1793370600-1793379600@ref-speicher.ch
SUMMARY:Café Himmlisch
DESCRIPTION:Café Himmlisch: Kaffee und Kuchen\, geniessen und plaudern… Kommen Sie vorbei! Wir freuen uns auf Sie!
URL:https://ref-speicher.ch/veranstaltung/cafe-himmlisch-42/
LOCATION:Evang. Pfarrhaus\, Dorf 44\, Speicher\, 9042\, Switzerland
CATEGORIES:Seniorengruppe
ATTACH;FMTTYPE=image/png:https://ref-speicher.ch/wp-content/uploads/2025/11/Cafe-Himmlisch_Bild.png
END:VEVENT
BEGIN:VEVENT
DTSTART;TZID=Europe/Berlin:20261103T140000
DTEND;TZID=Europe/Berlin:20261103T140000
DTSTAMP:20260419T213635
CREATED:20251029T102824Z
LAST-MODIFIED:20260409T081641Z
UID:14004-1793714400-1793714400@ref-speicher.ch
SUMMARY:Alti Lieder vörehole
DESCRIPTION:
URL:https://ref-speicher.ch/veranstaltung/alti-lieder-voerehole-21/
LOCATION:Evang. Kirchgemeindehaus\, Bogenweg 4\, 9042 Speicher
CATEGORIES:Seniorengruppe
ATTACH;FMTTYPE=image/jpeg:https://ref-speicher.ch/wp-content/uploads/2025/10/2026.09-12-Alti-Lieder_Flyer-scaled-e1761733628127.jpg
END:VEVENT
BEGIN:VEVENT
DTSTART;TZID=Europe/Berlin:20261104T120000
DTEND;TZID=Europe/Berlin:20261104T133000
DTSTAMP:20260419T213635
CREATED:20251128T101123Z
LAST-MODIFIED:20260409T081706Z
UID:14118-1793793600-1793799000@ref-speicher.ch
SUMMARY:Generationen essen gemeinsam
DESCRIPTION:Generationen essen gemeinsam\, Anmeldungen bis Montag\, 2. November an Tel/SMS 079 929 22 16 \n \n 
URL:https://ref-speicher.ch/veranstaltung/generationen-essen-gemeinsam-11/
LOCATION:Evang. Kirchgemeindehaus\, Bogenweg 4\, 9042 Speicher
CATEGORIES:Generationenessen
ATTACH;FMTTYPE=image/jpeg:https://ref-speicher.ch/wp-content/uploads/2026/01/2026.11.04-Generationen-essen-gemeinsam-e1767609505768.jpg
END:VEVENT
BEGIN:VEVENT
DTSTART;TZID=Europe/Berlin:20261106T143000
DTEND;TZID=Europe/Berlin:20261106T170000
DTSTAMP:20260419T213635
CREATED:20251128T104118Z
LAST-MODIFIED:20251128T104118Z
UID:14210-1793975400-1793984400@ref-speicher.ch
SUMMARY:Café Himmlisch
DESCRIPTION:Café Himmlisch: Kaffee und Kuchen\, geniessen und plaudern… Kommen Sie vorbei! Wir freuen uns auf Sie!
URL:https://ref-speicher.ch/veranstaltung/cafe-himmlisch-43/
LOCATION:Evang. Pfarrhaus\, Dorf 44\, Speicher\, 9042\, Switzerland
CATEGORIES:Seniorengruppe
ATTACH;FMTTYPE=image/png:https://ref-speicher.ch/wp-content/uploads/2025/11/Cafe-Himmlisch_Bild.png
END:VEVENT
BEGIN:VEVENT
DTSTART;TZID=Europe/Berlin:20261110T120000
DTEND;TZID=Europe/Berlin:20261110T120000
DTSTAMP:20260419T213635
CREATED:20251029T094236Z
LAST-MODIFIED:20260409T081746Z
UID:13949-1794312000-1794312000@ref-speicher.ch
SUMMARY:ökum. Mittagstisch für Senior:innen
DESCRIPTION:  \n 
URL:https://ref-speicher.ch/veranstaltung/oekum-mittagstisch-fuer-seniorinnen-19/
LOCATION:Pfarreizentrum Bendlehn\, Bruggmoos 29\, 9042 Speicher
CATEGORIES:Seniorengruppe
ATTACH;FMTTYPE=image/jpeg:https://ref-speicher.ch/wp-content/uploads/2025/10/2026.09-12.Mittagstisch-e1761730909940.jpg
END:VEVENT
BEGIN:VEVENT
DTSTART;TZID=Europe/Berlin:20261113T143000
DTEND;TZID=Europe/Berlin:20261113T170000
DTSTAMP:20260419T213635
CREATED:20251128T104134Z
LAST-MODIFIED:20251128T104134Z
UID:14212-1794580200-1794589200@ref-speicher.ch
SUMMARY:Café Himmlisch
DESCRIPTION:Café Himmlisch: Kaffee und Kuchen\, geniessen und plaudern… Kommen Sie vorbei! Wir freuen uns auf Sie!
URL:https://ref-speicher.ch/veranstaltung/cafe-himmlisch-44/
LOCATION:Evang. Pfarrhaus\, Dorf 44\, Speicher\, 9042\, Switzerland
CATEGORIES:Seniorengruppe
ATTACH;FMTTYPE=image/png:https://ref-speicher.ch/wp-content/uploads/2025/11/Cafe-Himmlisch_Bild.png
END:VEVENT
BEGIN:VEVENT
DTSTART;TZID=Europe/Berlin:20261117T140000
DTEND;TZID=Europe/Berlin:20261117T140000
DTSTAMP:20260419T213635
CREATED:20251029T102845Z
LAST-MODIFIED:20260409T081606Z
UID:14006-1794924000-1794924000@ref-speicher.ch
SUMMARY:Alti Lieder vörehole
DESCRIPTION:
URL:https://ref-speicher.ch/veranstaltung/alti-lieder-voerehole-22/
LOCATION:Evang. Kirchgemeindehaus\, Bogenweg 4\, 9042 Speicher
CATEGORIES:Seniorengruppe
ATTACH;FMTTYPE=image/jpeg:https://ref-speicher.ch/wp-content/uploads/2025/10/2026.09-12-Alti-Lieder_Flyer-scaled-e1761733628127.jpg
END:VEVENT
BEGIN:VEVENT
DTSTART;TZID=Europe/Berlin:20261120T143000
DTEND;TZID=Europe/Berlin:20261120T170000
DTSTAMP:20260419T213635
CREATED:20251128T104148Z
LAST-MODIFIED:20251128T104148Z
UID:14214-1795185000-1795194000@ref-speicher.ch
SUMMARY:Café Himmlisch
DESCRIPTION:Café Himmlisch: Kaffee und Kuchen\, geniessen und plaudern… Kommen Sie vorbei! Wir freuen uns auf Sie!
URL:https://ref-speicher.ch/veranstaltung/cafe-himmlisch-46/
LOCATION:Evang. Pfarrhaus\, Dorf 44\, Speicher\, 9042\, Switzerland
CATEGORIES:Seniorengruppe
ATTACH;FMTTYPE=image/png:https://ref-speicher.ch/wp-content/uploads/2025/11/Cafe-Himmlisch_Bild.png
END:VEVENT
BEGIN:VEVENT
DTSTART;TZID=Europe/Berlin:20261124T120000
DTEND;TZID=Europe/Berlin:20261124T120000
DTSTAMP:20260419T213635
CREATED:20251029T094536Z
LAST-MODIFIED:20260409T081855Z
UID:13957-1795521600-1795521600@ref-speicher.ch
SUMMARY:ökum. Mittagstisch für Senior:innen
DESCRIPTION:  \n 
URL:https://ref-speicher.ch/veranstaltung/oekum-mittagstisch-fuer-seniorinnen-27/
LOCATION:Evang. Kirchgemeindehaus\, Bogenweg 4\, 9042 Speicher
CATEGORIES:Seniorengruppe
ATTACH;FMTTYPE=image/jpeg:https://ref-speicher.ch/wp-content/uploads/2025/10/2026.09-12.Mittagstisch-e1761730909940.jpg
END:VEVENT
BEGIN:VEVENT
DTSTART;TZID=Europe/Berlin:20261127T143000
DTEND;TZID=Europe/Berlin:20261127T170000
DTSTAMP:20260419T213635
CREATED:20251128T104201Z
LAST-MODIFIED:20251128T104201Z
UID:14216-1795789800-1795798800@ref-speicher.ch
SUMMARY:Café Himmlisch
DESCRIPTION:Café Himmlisch: Kaffee und Kuchen\, geniessen und plaudern… Kommen Sie vorbei! Wir freuen uns auf Sie!
URL:https://ref-speicher.ch/veranstaltung/cafe-himmlisch-47/
LOCATION:Evang. Pfarrhaus\, Dorf 44\, Speicher\, 9042\, Switzerland
CATEGORIES:Seniorengruppe
ATTACH;FMTTYPE=image/png:https://ref-speicher.ch/wp-content/uploads/2025/11/Cafe-Himmlisch_Bild.png
END:VEVENT
BEGIN:VEVENT
DTSTART;TZID=Europe/Berlin:20261201T140000
DTEND;TZID=Europe/Berlin:20261201T140000
DTSTAMP:20260419T213635
CREATED:20251029T102904Z
LAST-MODIFIED:20251029T103011Z
UID:14008-1796133600-1796133600@ref-speicher.ch
SUMMARY:Alti Lieder vörehole
DESCRIPTION:
URL:https://ref-speicher.ch/veranstaltung/alti-lieder-voerehole-25/
LOCATION:Evang. Kirchgemeindehaus\, Bogenweg 4\, 9042 Speicher
CATEGORIES:Seniorengruppe
ATTACH;FMTTYPE=image/jpeg:https://ref-speicher.ch/wp-content/uploads/2025/10/2026.09-12-Alti-Lieder_Flyer-scaled-e1761733628127.jpg
END:VEVENT
BEGIN:VEVENT
DTSTART;TZID=Europe/Berlin:20261202T120000
DTEND;TZID=Europe/Berlin:20261202T133000
DTSTAMP:20260419T213635
CREATED:20251128T101247Z
LAST-MODIFIED:20260409T081957Z
UID:14120-1796212800-1796218200@ref-speicher.ch
SUMMARY:Generationen essen gemeinsam
DESCRIPTION:Generationen essen gemeinsam\, Anmeldungen bis Montag\, 30. November an Tel/SMS 079 929 22 16 \n \n 
URL:https://ref-speicher.ch/veranstaltung/generationen-essen-gemeinsam-12/
LOCATION:Evang. Kirchgemeindehaus\, Bogenweg 4\, 9042 Speicher
CATEGORIES:Generationenessen
ATTACH;FMTTYPE=image/jpeg:https://ref-speicher.ch/wp-content/uploads/2026/01/2026.12.02-Generationen-essen-gemeinsam-e1767609555541.jpg
END:VEVENT
BEGIN:VEVENT
DTSTART;TZID=Europe/Berlin:20261204T143000
DTEND;TZID=Europe/Berlin:20261204T170000
DTSTAMP:20260419T213635
CREATED:20251128T104215Z
LAST-MODIFIED:20251128T104215Z
UID:14218-1796394600-1796403600@ref-speicher.ch
SUMMARY:Café Himmlisch
DESCRIPTION:Café Himmlisch: Kaffee und Kuchen\, geniessen und plaudern… Kommen Sie vorbei! Wir freuen uns auf Sie!
URL:https://ref-speicher.ch/veranstaltung/cafe-himmlisch-48/
LOCATION:Evang. Pfarrhaus\, Dorf 44\, Speicher\, 9042\, Switzerland
CATEGORIES:Seniorengruppe
ATTACH;FMTTYPE=image/png:https://ref-speicher.ch/wp-content/uploads/2025/11/Cafe-Himmlisch_Bild.png
END:VEVENT
BEGIN:VEVENT
DTSTART;TZID=Europe/Berlin:20261208T120000
DTEND;TZID=Europe/Berlin:20261208T120000
DTSTAMP:20260419T213635
CREATED:20251029T094254Z
LAST-MODIFIED:20260409T081919Z
UID:13951-1796731200-1796731200@ref-speicher.ch
SUMMARY:ökum. Mittagstisch für Senior:innen
DESCRIPTION:  \n 
URL:https://ref-speicher.ch/veranstaltung/oekum-mittagstisch-fuer-seniorinnen-20/
LOCATION:Pfarreizentrum Bendlehn\, Bruggmoos 29\, 9042 Speicher
CATEGORIES:Seniorengruppe
ATTACH;FMTTYPE=image/jpeg:https://ref-speicher.ch/wp-content/uploads/2025/10/2026.09-12.Mittagstisch-e1761730909940.jpg
END:VEVENT
BEGIN:VEVENT
DTSTART;TZID=Europe/Berlin:20261211T143000
DTEND;TZID=Europe/Berlin:20261211T170000
DTSTAMP:20260419T213635
CREATED:20251128T104231Z
LAST-MODIFIED:20251128T104231Z
UID:14220-1796999400-1797008400@ref-speicher.ch
SUMMARY:Café Himmlisch
DESCRIPTION:Café Himmlisch: Kaffee und Kuchen\, geniessen und plaudern… Kommen Sie vorbei! Wir freuen uns auf Sie!
URL:https://ref-speicher.ch/veranstaltung/cafe-himmlisch-49/
LOCATION:Evang. Pfarrhaus\, Dorf 44\, Speicher\, 9042\, Switzerland
CATEGORIES:Seniorengruppe
ATTACH;FMTTYPE=image/png:https://ref-speicher.ch/wp-content/uploads/2025/11/Cafe-Himmlisch_Bild.png
END:VEVENT
BEGIN:VEVENT
DTSTART;TZID=Europe/Berlin:20261215T140000
DTEND;TZID=Europe/Berlin:20261215T140000
DTSTAMP:20260419T213635
CREATED:20251029T102921Z
LAST-MODIFIED:20251029T102944Z
UID:14010-1797343200-1797343200@ref-speicher.ch
SUMMARY:Alti Lieder vörehole
DESCRIPTION:
URL:https://ref-speicher.ch/veranstaltung/alti-lieder-voerehole-28/
LOCATION:Evang. Kirchgemeindehaus\, Bogenweg 4\, 9042 Speicher
CATEGORIES:Seniorengruppe
ATTACH;FMTTYPE=image/jpeg:https://ref-speicher.ch/wp-content/uploads/2025/10/2026.09-12-Alti-Lieder_Flyer-scaled-e1761733628127.jpg
END:VEVENT
BEGIN:VEVENT
DTSTART;TZID=Europe/Berlin:20261218T143000
DTEND;TZID=Europe/Berlin:20261218T170000
DTSTAMP:20260419T213635
CREATED:20251128T104244Z
LAST-MODIFIED:20251128T104244Z
UID:14222-1797604200-1797613200@ref-speicher.ch
SUMMARY:Café Himmlisch
DESCRIPTION:Café Himmlisch: Kaffee und Kuchen\, geniessen und plaudern… Kommen Sie vorbei! Wir freuen uns auf Sie!
URL:https://ref-speicher.ch/veranstaltung/cafe-himmlisch-50/
LOCATION:Evang. Pfarrhaus\, Dorf 44\, Speicher\, 9042\, Switzerland
CATEGORIES:Seniorengruppe
ATTACH;FMTTYPE=image/png:https://ref-speicher.ch/wp-content/uploads/2025/11/Cafe-Himmlisch_Bild.png
END:VEVENT
BEGIN:VEVENT
DTSTART;TZID=Europe/Berlin:20261222T120000
DTEND;TZID=Europe/Berlin:20261222T120000
DTSTAMP:20260419T213635
CREATED:20251029T094708Z
LAST-MODIFIED:20260409T082038Z
UID:13959-1797940800-1797940800@ref-speicher.ch
SUMMARY:ökum. Mittagstisch für Senior:innen
DESCRIPTION:  \n 
URL:https://ref-speicher.ch/veranstaltung/oekum-mittagstisch-fuer-seniorinnen-28/
LOCATION:Evang. Kirchgemeindehaus\, Bogenweg 4\, 9042 Speicher
CATEGORIES:Seniorengruppe
ATTACH;FMTTYPE=image/jpeg:https://ref-speicher.ch/wp-content/uploads/2025/10/2026.09-12.Mittagstisch-e1761730909940.jpg
END:VEVENT
BEGIN:VEVENT
DTSTART;TZID=Europe/Berlin:20261225T143000
DTEND;TZID=Europe/Berlin:20261225T170000
DTSTAMP:20260419T213635
CREATED:20251128T104335Z
LAST-MODIFIED:20251128T104335Z
UID:14224-1798209000-1798218000@ref-speicher.ch
SUMMARY:Das "Café Himmlisch" bleibt heute geschlossen.
DESCRIPTION:
URL:https://ref-speicher.ch/veranstaltung/das-cafe-himmlisch-bleibt-heute-geschlossen/
LOCATION:Evang. Pfarrhaus\, Dorf 44\, Speicher\, 9042\, Switzerland
CATEGORIES:Seniorengruppe
END:VEVENT
END:VCALENDAR