BEGIN:VCALENDAR
VERSION:2.0
PRODID:-//Evang.-ref. Kirchgemeinde Speicher - ECPv6.3.7//NONSGML v1.0//EN
CALSCALE:GREGORIAN
METHOD:PUBLISH
X-WR-CALNAME:Evang.-ref. Kirchgemeinde Speicher
X-ORIGINAL-URL:https://ref-speicher.ch
X-WR-CALDESC:Veranstaltungen im Evang.-ref. Kirchgemeinde Speicher
REFRESH-INTERVAL;VALUE=DURATION:PT1H
X-Robots-Tag:noindex
X-PUBLISHED-TTL:PT1H
BEGIN:VTIMEZONE
TZID:Europe/Berlin
BEGIN:DAYLIGHT
TZOFFSETFROM:+0100
TZOFFSETTO:+0200
TZNAME:CEST
DTSTART:20260329T010000
END:DAYLIGHT
BEGIN:STANDARD
TZOFFSETFROM:+0200
TZOFFSETTO:+0100
TZNAME:CET
DTSTART:20261025T010000
END:STANDARD
END:VTIMEZONE
BEGIN:VEVENT
DTSTART;TZID=Europe/Berlin:20260701T120000
DTEND;TZID=Europe/Berlin:20260701T133000
DTSTAMP:20260419T155332
CREATED:20251128T100523Z
LAST-MODIFIED:20260105T103452Z
UID:14107-1782907200-1782912600@ref-speicher.ch
SUMMARY:Generationen essen gemeinsam
DESCRIPTION:Generationen essen gemeinsam\, Anmeldungen bis Montag\, 29. Juni an Tel/SMS 079 929 22 16 \n \n 
URL:https://ref-speicher.ch/veranstaltung/generationen-essen-gemeinsam-6/
LOCATION:Evang. Kirchgemeindehaus\, Bogenweg 4\, 9042 Speicher
CATEGORIES:Generationenessen
ATTACH;FMTTYPE=image/jpeg:https://ref-speicher.ch/wp-content/uploads/2026/01/2026.07.01-Generationen-essen-gemeinsam-e1767609289504.jpg
END:VEVENT
BEGIN:VEVENT
DTSTART;TZID=Europe/Berlin:20260703T143000
DTEND;TZID=Europe/Berlin:20260703T170000
DTSTAMP:20260419T155332
CREATED:20251128T103513Z
LAST-MODIFIED:20251128T103513Z
UID:14174-1783089000-1783098000@ref-speicher.ch
SUMMARY:Café Himmlisch
DESCRIPTION:Café Himmlisch: Kaffee und Kuchen\, geniessen und plaudern… Kommen Sie vorbei! Wir freuen uns auf Sie!
URL:https://ref-speicher.ch/veranstaltung/cafe-himmlisch-25/
LOCATION:Evang. Pfarrhaus\, Dorf 44\, Speicher\, 9042\, Switzerland
CATEGORIES:Seniorengruppe
ATTACH;FMTTYPE=image/png:https://ref-speicher.ch/wp-content/uploads/2025/11/Cafe-Himmlisch_Bild.png
END:VEVENT
BEGIN:VEVENT
DTSTART;TZID=Europe/Berlin:20260707T140000
DTEND;TZID=Europe/Berlin:20260707T140000
DTSTAMP:20260419T155332
CREATED:20251029T102521Z
LAST-MODIFIED:20260409T080501Z
UID:13988-1783432800-1783432800@ref-speicher.ch
SUMMARY:Alti Lieder vörehole
DESCRIPTION:
URL:https://ref-speicher.ch/veranstaltung/alti-lieder-voerehole-13/
LOCATION:Evang. Kirchgemeindehaus\, Bogenweg 4\, 9042 Speicher
CATEGORIES:Seniorengruppe
ATTACH;FMTTYPE=image/jpeg:https://ref-speicher.ch/wp-content/uploads/2025/10/2026.05-08-Alti-Lieder_Flyer-scaled-e1761733440571.jpg
END:VEVENT
BEGIN:VEVENT
DTSTART;TZID=Europe/Berlin:20260710T143000
DTEND;TZID=Europe/Berlin:20260710T170000
DTSTAMP:20260419T155332
CREATED:20251128T103527Z
LAST-MODIFIED:20251128T103527Z
UID:14176-1783693800-1783702800@ref-speicher.ch
SUMMARY:Café Himmlisch
DESCRIPTION:Café Himmlisch: Kaffee und Kuchen\, geniessen und plaudern… Kommen Sie vorbei! Wir freuen uns auf Sie!
URL:https://ref-speicher.ch/veranstaltung/cafe-himmlisch-26/
LOCATION:Evang. Pfarrhaus\, Dorf 44\, Speicher\, 9042\, Switzerland
CATEGORIES:Seniorengruppe
ATTACH;FMTTYPE=image/png:https://ref-speicher.ch/wp-content/uploads/2025/11/Cafe-Himmlisch_Bild.png
END:VEVENT
BEGIN:VEVENT
DTSTART;TZID=Europe/Berlin:20260714T120000
DTEND;TZID=Europe/Berlin:20260714T120000
DTSTAMP:20260419T155332
CREATED:20251029T093359Z
LAST-MODIFIED:20251029T093359Z
UID:13933-1784030400-1784030400@ref-speicher.ch
SUMMARY:ökum. Mittagstisch für Senior:innen
DESCRIPTION:  \n 
URL:https://ref-speicher.ch/veranstaltung/oekum-mittagstisch-fuer-seniorinnen-11/
LOCATION:Pfarreizentrum Bendlehn\, Bruggmoos 29\, 9042 Speicher
CATEGORIES:Seniorengruppe
ATTACH;FMTTYPE=image/jpeg:https://ref-speicher.ch/wp-content/uploads/2025/10/2026.05-08.Mittagstisch-e1761730380465.jpg
END:VEVENT
BEGIN:VEVENT
DTSTART;TZID=Europe/Berlin:20260717T143000
DTEND;TZID=Europe/Berlin:20260717T170000
DTSTAMP:20260419T155332
CREATED:20251128T103541Z
LAST-MODIFIED:20251128T103541Z
UID:14178-1784298600-1784307600@ref-speicher.ch
SUMMARY:Café Himmlisch
DESCRIPTION:Café Himmlisch: Kaffee und Kuchen\, geniessen und plaudern… Kommen Sie vorbei! Wir freuen uns auf Sie!
URL:https://ref-speicher.ch/veranstaltung/cafe-himmlisch-27/
LOCATION:Evang. Pfarrhaus\, Dorf 44\, Speicher\, 9042\, Switzerland
CATEGORIES:Seniorengruppe
ATTACH;FMTTYPE=image/png:https://ref-speicher.ch/wp-content/uploads/2025/11/Cafe-Himmlisch_Bild.png
END:VEVENT
BEGIN:VEVENT
DTSTART;TZID=Europe/Berlin:20260721T140000
DTEND;TZID=Europe/Berlin:20260721T140000
DTSTAMP:20260419T155332
CREATED:20251029T102538Z
LAST-MODIFIED:20260409T080648Z
UID:13990-1784642400-1784642400@ref-speicher.ch
SUMMARY:Alti Lieder vörehole
DESCRIPTION:
URL:https://ref-speicher.ch/veranstaltung/alti-lieder-voerehole-14/
LOCATION:Evang. Kirchgemeindehaus\, Bogenweg 4\, 9042 Speicher
CATEGORIES:Seniorengruppe
ATTACH;FMTTYPE=image/jpeg:https://ref-speicher.ch/wp-content/uploads/2025/10/2026.05-08-Alti-Lieder_Flyer-scaled-e1761733440571.jpg
END:VEVENT
BEGIN:VEVENT
DTSTART;TZID=Europe/Berlin:20260724T143000
DTEND;TZID=Europe/Berlin:20260724T170000
DTSTAMP:20260419T155332
CREATED:20251128T103559Z
LAST-MODIFIED:20251128T103559Z
UID:14180-1784903400-1784912400@ref-speicher.ch
SUMMARY:Café Himmlisch
DESCRIPTION:Café Himmlisch: Kaffee und Kuchen\, geniessen und plaudern… Kommen Sie vorbei! Wir freuen uns auf Sie!
URL:https://ref-speicher.ch/veranstaltung/cafe-himmlisch-28/
LOCATION:Evang. Pfarrhaus\, Dorf 44\, Speicher\, 9042\, Switzerland
CATEGORIES:Seniorengruppe
ATTACH;FMTTYPE=image/png:https://ref-speicher.ch/wp-content/uploads/2025/11/Cafe-Himmlisch_Bild.png
END:VEVENT
BEGIN:VEVENT
DTSTART;TZID=Europe/Berlin:20260728T120000
DTEND;TZID=Europe/Berlin:20260728T120000
DTSTAMP:20260419T155332
CREATED:20251029T093542Z
LAST-MODIFIED:20251029T093542Z
UID:13941-1785240000-1785240000@ref-speicher.ch
SUMMARY:ökum. Mittagstisch für Senior:innen
DESCRIPTION:  \n 
URL:https://ref-speicher.ch/veranstaltung/oekum-mittagstisch-fuer-seniorinnen-15/
LOCATION:Evang. Kirchgemeindehaus\, Bogenweg 4\, 9042 Speicher
CATEGORIES:Seniorengruppe
ATTACH;FMTTYPE=image/jpeg:https://ref-speicher.ch/wp-content/uploads/2025/10/2026.05-08.Mittagstisch-e1761730380465.jpg
END:VEVENT
BEGIN:VEVENT
DTSTART;TZID=Europe/Berlin:20260731T143000
DTEND;TZID=Europe/Berlin:20260731T170000
DTSTAMP:20260419T155332
CREATED:20251128T103615Z
LAST-MODIFIED:20251128T103615Z
UID:14182-1785508200-1785517200@ref-speicher.ch
SUMMARY:Café Himmlisch
DESCRIPTION:Café Himmlisch: Kaffee und Kuchen\, geniessen und plaudern… Kommen Sie vorbei! Wir freuen uns auf Sie!
URL:https://ref-speicher.ch/veranstaltung/cafe-himmlisch-29/
LOCATION:Evang. Pfarrhaus\, Dorf 44\, Speicher\, 9042\, Switzerland
CATEGORIES:Seniorengruppe
ATTACH;FMTTYPE=image/png:https://ref-speicher.ch/wp-content/uploads/2025/11/Cafe-Himmlisch_Bild.png
END:VEVENT
BEGIN:VEVENT
DTSTART;TZID=Europe/Berlin:20260804T140000
DTEND;TZID=Europe/Berlin:20260804T140000
DTSTAMP:20260419T155332
CREATED:20251029T102553Z
LAST-MODIFIED:20260409T080749Z
UID:13992-1785852000-1785852000@ref-speicher.ch
SUMMARY:Alti Lieder vörehole
DESCRIPTION:
URL:https://ref-speicher.ch/veranstaltung/alti-lieder-voerehole-15/
LOCATION:Evang. Kirchgemeindehaus\, Bogenweg 4\, 9042 Speicher
CATEGORIES:Seniorengruppe
ATTACH;FMTTYPE=image/jpeg:https://ref-speicher.ch/wp-content/uploads/2025/10/2026.05-08-Alti-Lieder_Flyer-scaled-e1761733440571.jpg
END:VEVENT
BEGIN:VEVENT
DTSTART;TZID=Europe/Berlin:20260805T120000
DTEND;TZID=Europe/Berlin:20260805T133000
DTSTAMP:20260419T155332
CREATED:20251128T100739Z
LAST-MODIFIED:20260409T080841Z
UID:14110-1785931200-1785936600@ref-speicher.ch
SUMMARY:Generationen essen gemeinsam
DESCRIPTION:Generationen essen gemeinsam\, Anmeldungen bis Montag\, 3. August an Tel/SMS 079 929 22 16 \n \n 
URL:https://ref-speicher.ch/veranstaltung/generationen-essen-gemeinsam-7/
LOCATION:Evang. Kirchgemeindehaus\, Bogenweg 4\, 9042 Speicher
CATEGORIES:Generationenessen
ATTACH;FMTTYPE=image/jpeg:https://ref-speicher.ch/wp-content/uploads/2026/01/2026.08.05-Generationen-essen-gemeinsam-e1767609338849.jpg
END:VEVENT
BEGIN:VEVENT
DTSTART;TZID=Europe/Berlin:20260807T143000
DTEND;TZID=Europe/Berlin:20260807T170000
DTSTAMP:20260419T155332
CREATED:20251128T103754Z
LAST-MODIFIED:20251128T103754Z
UID:14184-1786113000-1786122000@ref-speicher.ch
SUMMARY:Café Himmlisch
DESCRIPTION:Café Himmlisch: Kaffee und Kuchen\, geniessen und plaudern… Kommen Sie vorbei! Wir freuen uns auf Sie!
URL:https://ref-speicher.ch/veranstaltung/cafe-himmlisch-30/
LOCATION:Evang. Pfarrhaus\, Dorf 44\, Speicher\, 9042\, Switzerland
CATEGORIES:Seniorengruppe
ATTACH;FMTTYPE=image/png:https://ref-speicher.ch/wp-content/uploads/2025/11/Cafe-Himmlisch_Bild.png
END:VEVENT
BEGIN:VEVENT
DTSTART;TZID=Europe/Berlin:20260811T120000
DTEND;TZID=Europe/Berlin:20260811T120000
DTSTAMP:20260419T155332
CREATED:20251029T093416Z
LAST-MODIFIED:20251029T093416Z
UID:13935-1786449600-1786449600@ref-speicher.ch
SUMMARY:ökum. Mittagstisch für Senior:innen
DESCRIPTION:  \n 
URL:https://ref-speicher.ch/veranstaltung/oekum-mittagstisch-fuer-seniorinnen-12/
LOCATION:Pfarreizentrum Bendlehn\, Bruggmoos 29\, 9042 Speicher
CATEGORIES:Seniorengruppe
ATTACH;FMTTYPE=image/jpeg:https://ref-speicher.ch/wp-content/uploads/2025/10/2026.05-08.Mittagstisch-e1761730380465.jpg
END:VEVENT
BEGIN:VEVENT
DTSTART;TZID=Europe/Berlin:20260814T143000
DTEND;TZID=Europe/Berlin:20260814T170000
DTSTAMP:20260419T155332
CREATED:20251128T103810Z
LAST-MODIFIED:20251128T103810Z
UID:14186-1786717800-1786726800@ref-speicher.ch
SUMMARY:Café Himmlisch
DESCRIPTION:Café Himmlisch: Kaffee und Kuchen\, geniessen und plaudern… Kommen Sie vorbei! Wir freuen uns auf Sie!
URL:https://ref-speicher.ch/veranstaltung/cafe-himmlisch-31/
LOCATION:Evang. Pfarrhaus\, Dorf 44\, Speicher\, 9042\, Switzerland
CATEGORIES:Seniorengruppe
ATTACH;FMTTYPE=image/png:https://ref-speicher.ch/wp-content/uploads/2025/11/Cafe-Himmlisch_Bild.png
END:VEVENT
BEGIN:VEVENT
DTSTART;TZID=Europe/Berlin:20260818T140000
DTEND;TZID=Europe/Berlin:20260818T140000
DTSTAMP:20260419T155332
CREATED:20251029T102613Z
LAST-MODIFIED:20260409T080924Z
UID:13994-1787061600-1787061600@ref-speicher.ch
SUMMARY:Alti Lieder vörehole
DESCRIPTION:
URL:https://ref-speicher.ch/veranstaltung/alti-lieder-voerehole-16/
LOCATION:Evang. Kirchgemeindehaus\, Bogenweg 4\, 9042 Speicher
CATEGORIES:Seniorengruppe
ATTACH;FMTTYPE=image/jpeg:https://ref-speicher.ch/wp-content/uploads/2025/10/2026.05-08-Alti-Lieder_Flyer-scaled-e1761733440571.jpg
END:VEVENT
BEGIN:VEVENT
DTSTART;TZID=Europe/Berlin:20260821T143000
DTEND;TZID=Europe/Berlin:20260821T170000
DTSTAMP:20260419T155332
CREATED:20251128T103822Z
LAST-MODIFIED:20251128T103822Z
UID:14188-1787322600-1787331600@ref-speicher.ch
SUMMARY:Café Himmlisch
DESCRIPTION:Café Himmlisch: Kaffee und Kuchen\, geniessen und plaudern… Kommen Sie vorbei! Wir freuen uns auf Sie!
URL:https://ref-speicher.ch/veranstaltung/cafe-himmlisch-32/
LOCATION:Evang. Pfarrhaus\, Dorf 44\, Speicher\, 9042\, Switzerland
CATEGORIES:Seniorengruppe
ATTACH;FMTTYPE=image/png:https://ref-speicher.ch/wp-content/uploads/2025/11/Cafe-Himmlisch_Bild.png
END:VEVENT
BEGIN:VEVENT
DTSTART;TZID=Europe/Berlin:20260825T120000
DTEND;TZID=Europe/Berlin:20260825T120000
DTSTAMP:20260419T155332
CREATED:20251029T093600Z
LAST-MODIFIED:20251029T093600Z
UID:13943-1787659200-1787659200@ref-speicher.ch
SUMMARY:ökum. Mittagstisch für Senior:innen
DESCRIPTION:  \n 
URL:https://ref-speicher.ch/veranstaltung/oekum-mittagstisch-fuer-seniorinnen-16/
LOCATION:Evang. Kirchgemeindehaus\, Bogenweg 4\, 9042 Speicher
CATEGORIES:Seniorengruppe
ATTACH;FMTTYPE=image/jpeg:https://ref-speicher.ch/wp-content/uploads/2025/10/2026.05-08.Mittagstisch-e1761730380465.jpg
END:VEVENT
BEGIN:VEVENT
DTSTART;TZID=Europe/Berlin:20260828T143000
DTEND;TZID=Europe/Berlin:20260828T170000
DTSTAMP:20260419T155332
CREATED:20251128T103837Z
LAST-MODIFIED:20251128T103837Z
UID:14190-1787927400-1787936400@ref-speicher.ch
SUMMARY:Café Himmlisch
DESCRIPTION:Café Himmlisch: Kaffee und Kuchen\, geniessen und plaudern… Kommen Sie vorbei! Wir freuen uns auf Sie!
URL:https://ref-speicher.ch/veranstaltung/cafe-himmlisch-33/
LOCATION:Evang. Pfarrhaus\, Dorf 44\, Speicher\, 9042\, Switzerland
CATEGORIES:Seniorengruppe
ATTACH;FMTTYPE=image/png:https://ref-speicher.ch/wp-content/uploads/2025/11/Cafe-Himmlisch_Bild.png
END:VEVENT
BEGIN:VEVENT
DTSTART;VALUE=DATE:20260829
DTEND;VALUE=DATE:20260830
DTSTAMP:20260419T155332
CREATED:20251029T103419Z
LAST-MODIFIED:20260409T081010Z
UID:14012-1787961600-1788047999@ref-speicher.ch
SUMMARY:Kirchenfest 2026
DESCRIPTION:
URL:https://ref-speicher.ch/veranstaltung/kirchenfest-2026/
LOCATION:Evang. Kirche Speicher\, Dorf 44\, Speicher\, AL
END:VEVENT
BEGIN:VEVENT
DTSTART;TZID=Europe/Berlin:20260901T140000
DTEND;TZID=Europe/Berlin:20260901T140000
DTSTAMP:20260419T155332
CREATED:20251029T102713Z
LAST-MODIFIED:20260409T081055Z
UID:13996-1788271200-1788271200@ref-speicher.ch
SUMMARY:Alti Lieder vörehole
DESCRIPTION:
URL:https://ref-speicher.ch/veranstaltung/alti-lieder-voerehole-17/
LOCATION:Evang. Kirchgemeindehaus\, Bogenweg 4\, 9042 Speicher
CATEGORIES:Seniorengruppe
ATTACH;FMTTYPE=image/jpeg:https://ref-speicher.ch/wp-content/uploads/2025/10/2026.09-12-Alti-Lieder_Flyer-scaled-e1761733628127.jpg
END:VEVENT
BEGIN:VEVENT
DTSTART;TZID=Europe/Berlin:20260902T120000
DTEND;TZID=Europe/Berlin:20260902T133000
DTSTAMP:20260419T155332
CREATED:20251128T100851Z
LAST-MODIFIED:20260105T103654Z
UID:14113-1788350400-1788355800@ref-speicher.ch
SUMMARY:Generationen essen gemeinsam
DESCRIPTION:Generationen essen gemeinsam\, Anmeldungen bis Montag\, 31. August an Tel/SMS 079 929 22 16 \n \n 
URL:https://ref-speicher.ch/veranstaltung/generationen-essen-gemeinsam-8/
LOCATION:Evang. Kirchgemeindehaus\, Bogenweg 4\, 9042 Speicher
CATEGORIES:Generationenessen
ATTACH;FMTTYPE=image/jpeg:https://ref-speicher.ch/wp-content/uploads/2026/01/2026.09.02-Generationen-essen-gemeinsam-e1767609386103.jpg
END:VEVENT
BEGIN:VEVENT
DTSTART;TZID=Europe/Berlin:20260904T143000
DTEND;TZID=Europe/Berlin:20260904T170000
DTSTAMP:20260419T155332
CREATED:20251128T103851Z
LAST-MODIFIED:20251128T103851Z
UID:14192-1788532200-1788541200@ref-speicher.ch
SUMMARY:Café Himmlisch
DESCRIPTION:Café Himmlisch: Kaffee und Kuchen\, geniessen und plaudern… Kommen Sie vorbei! Wir freuen uns auf Sie!
URL:https://ref-speicher.ch/veranstaltung/cafe-himmlisch-34/
LOCATION:Evang. Pfarrhaus\, Dorf 44\, Speicher\, 9042\, Switzerland
CATEGORIES:Seniorengruppe
ATTACH;FMTTYPE=image/png:https://ref-speicher.ch/wp-content/uploads/2025/11/Cafe-Himmlisch_Bild.png
END:VEVENT
BEGIN:VEVENT
DTSTART;TZID=Europe/Berlin:20260908T120000
DTEND;TZID=Europe/Berlin:20260908T120000
DTSTAMP:20260419T155332
CREATED:20251029T094158Z
LAST-MODIFIED:20260409T081144Z
UID:13945-1788868800-1788868800@ref-speicher.ch
SUMMARY:ökum. Mittagstisch für Senior:innen
DESCRIPTION:  \n 
URL:https://ref-speicher.ch/veranstaltung/oekum-mittagstisch-fuer-seniorinnen-17/
LOCATION:Pfarreizentrum Bendlehn\, Bruggmoos 29\, 9042 Speicher
CATEGORIES:Seniorengruppe
ATTACH;FMTTYPE=image/jpeg:https://ref-speicher.ch/wp-content/uploads/2025/10/2026.09-12.Mittagstisch-e1761730909940.jpg
END:VEVENT
BEGIN:VEVENT
DTSTART;TZID=Europe/Berlin:20260911T143000
DTEND;TZID=Europe/Berlin:20260911T170000
DTSTAMP:20260419T155332
CREATED:20251128T103906Z
LAST-MODIFIED:20251128T103906Z
UID:14194-1789137000-1789146000@ref-speicher.ch
SUMMARY:Café Himmlisch
DESCRIPTION:Café Himmlisch: Kaffee und Kuchen\, geniessen und plaudern… Kommen Sie vorbei! Wir freuen uns auf Sie!
URL:https://ref-speicher.ch/veranstaltung/cafe-himmlisch-35/
LOCATION:Evang. Pfarrhaus\, Dorf 44\, Speicher\, 9042\, Switzerland
CATEGORIES:Seniorengruppe
ATTACH;FMTTYPE=image/png:https://ref-speicher.ch/wp-content/uploads/2025/11/Cafe-Himmlisch_Bild.png
END:VEVENT
BEGIN:VEVENT
DTSTART;TZID=Europe/Berlin:20260915T140000
DTEND;TZID=Europe/Berlin:20260915T140000
DTSTAMP:20260419T155332
CREATED:20251029T102734Z
LAST-MODIFIED:20251029T103208Z
UID:13998-1789480800-1789480800@ref-speicher.ch
SUMMARY:Alti Lieder vörehole
DESCRIPTION:
URL:https://ref-speicher.ch/veranstaltung/alti-lieder-voerehole-18/
LOCATION:Evang. Kirchgemeindehaus\, Bogenweg 4\, 9042 Speicher
CATEGORIES:Seniorengruppe
ATTACH;FMTTYPE=image/jpeg:https://ref-speicher.ch/wp-content/uploads/2025/10/2026.09-12-Alti-Lieder_Flyer-scaled-e1761733628127.jpg
END:VEVENT
BEGIN:VEVENT
DTSTART;TZID=Europe/Berlin:20260918T143000
DTEND;TZID=Europe/Berlin:20260918T170000
DTSTAMP:20260419T155332
CREATED:20251128T103919Z
LAST-MODIFIED:20251128T103919Z
UID:14196-1789741800-1789750800@ref-speicher.ch
SUMMARY:Café Himmlisch
DESCRIPTION:Café Himmlisch: Kaffee und Kuchen\, geniessen und plaudern… Kommen Sie vorbei! Wir freuen uns auf Sie!
URL:https://ref-speicher.ch/veranstaltung/cafe-himmlisch-36/
LOCATION:Evang. Pfarrhaus\, Dorf 44\, Speicher\, 9042\, Switzerland
CATEGORIES:Seniorengruppe
ATTACH;FMTTYPE=image/png:https://ref-speicher.ch/wp-content/uploads/2025/11/Cafe-Himmlisch_Bild.png
END:VEVENT
BEGIN:VEVENT
DTSTART;TZID=Europe/Berlin:20260922T120000
DTEND;TZID=Europe/Berlin:20260922T120000
DTSTAMP:20260419T155332
CREATED:20251029T094331Z
LAST-MODIFIED:20260409T081230Z
UID:13953-1790078400-1790078400@ref-speicher.ch
SUMMARY:ökum. Mittagstisch für Senior:innen
DESCRIPTION:  \n 
URL:https://ref-speicher.ch/veranstaltung/oekum-mittagstisch-fuer-seniorinnen-23/
LOCATION:Evang. Kirchgemeindehaus\, Bogenweg 4\, 9042 Speicher
CATEGORIES:Seniorengruppe
ATTACH;FMTTYPE=image/jpeg:https://ref-speicher.ch/wp-content/uploads/2025/10/2026.09-12.Mittagstisch-e1761730909940.jpg
END:VEVENT
BEGIN:VEVENT
DTSTART;TZID=Europe/Berlin:20260925T143000
DTEND;TZID=Europe/Berlin:20260925T170000
DTSTAMP:20260419T155332
CREATED:20251128T103935Z
LAST-MODIFIED:20251128T103935Z
UID:14198-1790346600-1790355600@ref-speicher.ch
SUMMARY:Café Himmlisch
DESCRIPTION:Café Himmlisch: Kaffee und Kuchen\, geniessen und plaudern… Kommen Sie vorbei! Wir freuen uns auf Sie!
URL:https://ref-speicher.ch/veranstaltung/cafe-himmlisch-37/
LOCATION:Evang. Pfarrhaus\, Dorf 44\, Speicher\, 9042\, Switzerland
CATEGORIES:Seniorengruppe
ATTACH;FMTTYPE=image/png:https://ref-speicher.ch/wp-content/uploads/2025/11/Cafe-Himmlisch_Bild.png
END:VEVENT
BEGIN:VEVENT
DTSTART;TZID=Europe/Berlin:20261002T143000
DTEND;TZID=Europe/Berlin:20261002T170000
DTSTAMP:20260419T155332
CREATED:20251128T103954Z
LAST-MODIFIED:20251128T103954Z
UID:14200-1790951400-1790960400@ref-speicher.ch
SUMMARY:Café Himmlisch
DESCRIPTION:Café Himmlisch: Kaffee und Kuchen\, geniessen und plaudern… Kommen Sie vorbei! Wir freuen uns auf Sie!
URL:https://ref-speicher.ch/veranstaltung/cafe-himmlisch-38/
LOCATION:Evang. Pfarrhaus\, Dorf 44\, Speicher\, 9042\, Switzerland
CATEGORIES:Seniorengruppe
ATTACH;FMTTYPE=image/png:https://ref-speicher.ch/wp-content/uploads/2025/11/Cafe-Himmlisch_Bild.png
END:VEVENT
END:VCALENDAR